BEGIN:VCALENDAR
VERSION:2.0
PRODID:-//wp-events-plugin.com//7.2.3.1//EN
TZID:America/Denver
X-WR-TIMEZONE:America/Denver
BEGIN:VEVENT
UID:39@dev.arvadamodelers.com
DTSTART;TZID=America/Denver;VALUE=DATE:20200619
DTEND;TZID=America/Denver;VALUE=DATE:20200622
DTSTAMP:20200612T160259Z
URL:https://dev.arvadamodelers.com/events/colorado-pattern-challenge/
SUMMARY:Colorado Pattern Challenge
DESCRIPTION:Welcome to the 2019 Colorado Pattern Challenge (CPC)! The CPC i
 s hosted by the Arvada Associated Modelers. This is our 11th CPC in as man
 y years and will take place at the AAM East Field. The CPC is 2-day\, AA\,
  Sanctioned event for RC Aerobatics for Sportsman\, Intermediate\, Advance
 d\, Masters\, F3A Silver and F3A (P&amp\;F) (JSO combined). There are 6 ro
 unds planned (4 Saturday / 2 Sunday) with contestant judging. Trophy/plaqu
 es will be awarded for 3 places\, each class. &nbsp\;There are NO aircraft
  restrictions for Sportsman flyers.\n\nEntry fee is $40 and $35 for Sports
 man entrants. Lunch is provided on Saturday and beverages are included bot
 h days with your entry fee. The CPC also has many sponsors and prizes. Ann
 ually\, we give away over $1500 in sponsorship merchandise to contestants 
 and helpers. No one goes away empty-handed! There is also a complimentary 
 BBQ planned for Saturday evening.\n\nFor more information please see the E
 vent Flyer &amp\; Registration Form\, or contact Joe Pirozzoli\, CD. LET'S
  FLY SOME PATTERN!!\n\nEvent pre-registration is requested at the NSRCA CP
 C Event Page.\n\nAAM Members\n\nPlease be advised the East Field will be c
 losed to general flying during the 2020 Colorado Pattern Challenge on Satu
 rday and Sunday\, June 20-21\, 2020. The East Field (and frequency restric
 tions at the West Field) will be re-opened to general flying AFTER the con
 clusion of contest activities on both days. Expected field closure/frequen
 cy restriction hours are as follows:\n\nFriday (6/19/2020) – 12:00 pm to
  4:00 pm\nSaturday (6/20/2020) – 7:00 am to 4:00 pm\nSunday (6/21/2020) 
 – 7:00 am to 3:00 pm\n\nThanks for your support during this very importa
 nt AMA AA-sanctioned event.
CATEGORIES:Events
LOCATION:AAM Airpark\, 7608 Highway 93\, Golden\, CO\, 80403\, United State
 s
GEO:39.837061;-105.228343
X-APPLE-STRUCTURED-LOCATION;VALUE=URI;X-ADDRESS=7608 Highway 93\, Golden\, 
 CO\, 80403\, United States;X-APPLE-RADIUS=100;X-TITLE=AAM Airpark:geo:39.8
 37061,-105.228343
END:VEVENT
BEGIN:VTIMEZONE
TZID:America/Denver
X-LIC-LOCATION:America/Denver
BEGIN:DAYLIGHT
DTSTART:20200308T030000
TZOFFSETFROM:-0700
TZOFFSETTO:-0600
TZNAME:MDT
END:DAYLIGHT
END:VTIMEZONE
END:VCALENDAR