BEGIN:VCALENDAR
VERSION:2.0
PRODID:-//wp-events-plugin.com//7.2.3.1//EN
TZID:America/Denver
X-WR-TIMEZONE:America/Denver
BEGIN:VEVENT
UID:1163@dev.arvadamodelers.com
DTSTART;TZID=America/Denver;VALUE=DATE:20260612
DTEND;TZID=America/Denver;VALUE=DATE:20260615
DTSTAMP:20260121T125239Z
URL:https://dev.arvadamodelers.com/events/colorado-pattern-challenge-4/
SUMMARY:Colorado Pattern Challenge
DESCRIPTION:Welcome to the 2026 Colorado Pattern Challenge (CPC)! \n\nThe C
 PC is hosted by the Arvada Associated Modelers. This is our 17 th CPC in a
 s many years\nand will take place at the AAM East Field.\n\nThe CPC is 3-d
 ay\, AA\, Sanctioned event for RC Aerobatics for Sportsman\, Intermediate\
 , Advanced\, Masters\,\nF3A Silver and F3A (P&amp\;amp\;F) (JSA combined).
 \n\nThere is a practice day on Friday\, then 6 rounds planned (4 Saturday/
 2 Sunday) with contestant judging.\nTrophy/plaques will be awarded for 3 p
 laces\, each class. There are NO\naircraft restrictions for Sportsman flye
 rs.\n\nEntry fee is $50 (all contestants) and includes lunch and beverages
  all 3 days. The CPC also has many\nsponsors and prizes. We typically have
  numerous sponsorship and merchandise to award contestants.\nFor more info
 rmation please see the Event Flyer\, or contact Joe Pirozzoli (jfpirozzoli
 @gmail.com)\, CD.\nLET'S FLY SOME PATTERN!!!\n\nRegistration Link\nhttps:/
 /www.nsrca.us/index.php/list-events/eventdetail/1297/-/2026-colorado-patte
 rn-challenge\n\nEvent Flyer:\n\nhttps://dev.arvadamodelers.com/wp-content/
 uploads/AAM-Pattern-Flyer_2026_vF.pdf\n\nSpecial Notice to AAM Members\nPl
 ease be advised the East Field will be closed to general flying during the
  2026 Colorado Pattern\nChallenge Friday (practice day) through Sunday\, J
 une 12-14\, 2026. The East Field will be re-opened to\ngeneral flying AFTE
 R the conclusion of contest activities. Expected East Field closure hours 
 are as\nfollows:\nFriday (6/12/2026) – 7:00 am to 6:00 pm (Practice day)
 \nSaturday (6/13/2026) – 7:00 am to 5:00 pm (Contest)\nSunday (6/14/2026
 ) – 7:00 am to 2:00 pm (Contest)\nThanks for your support during this ve
 ry important AMA AA-sanctioned event.\n\n&nbsp\;
CATEGORIES:Closures,Events
LOCATION:AAM East Field\, 7608 Colorado 93\, Arvada\, CO\, 80403\, United S
 tates
X-APPLE-STRUCTURED-LOCATION;VALUE=URI;X-ADDRESS=7608 Colorado 93\, Arvada\,
  CO\, 80403\, United States;X-APPLE-RADIUS=100;X-TITLE=AAM East Field:geo:
 0,0
END:VEVENT
BEGIN:VTIMEZONE
TZID:America/Denver
X-LIC-LOCATION:America/Denver
BEGIN:DAYLIGHT
DTSTART:20260308T030000
TZOFFSETFROM:-0700
TZOFFSETTO:-0600
TZNAME:MDT
END:DAYLIGHT
END:VTIMEZONE
END:VCALENDAR