BEGIN:VCALENDAR
VERSION:2.0
PRODID:-//wp-events-plugin.com//7.2.3.1//EN
TZID:America/Denver
X-WR-TIMEZONE:America/Denver
BEGIN:VEVENT
UID:1166@dev.arvadamodelers.com
DTSTART;TZID=America/Denver:20261104T190000
DTEND;TZID=America/Denver:20261104T203000
DTSTAMP:20260117T125822Z
URL:https://dev.arvadamodelers.com/events/annual-business-meeting-and-offi
 cer-elections/
SUMMARY:Annual Business Meeting and Officer Elections
DESCRIPTION:Notice of Annual Business Meeting and Elections\n\nBy: Joe Piro
 zzoli\, President\n\nMeeting Agenda\n Indoor Flying from 6 – 7 pm\n
  Brief Board Reports (including Financial report)\n Business Meeting
 /Elections\n Program\n Show and Tell\n Door Prizes\n Silent Au
 ction\n Raffle\n\n&nbsp\;\n\n&nbsp\;
CATEGORIES:Meetings
LOCATION:Arvada Seventh-Day Adventist Church\, 7090 W 64th Avenue\, Arvada\
 , CO\, 80003\, United States
X-APPLE-STRUCTURED-LOCATION;VALUE=URI;X-ADDRESS=7090 W 64th Avenue\, Arvada
 \, CO\, 80003\, United States;X-APPLE-RADIUS=100;X-TITLE=Arvada Seventh-Da
 y Adventist Church:geo:0,0
END:VEVENT
BEGIN:VTIMEZONE
TZID:America/Denver
X-LIC-LOCATION:America/Denver
BEGIN:STANDARD
DTSTART:20261101T010000
TZOFFSETFROM:-0600
TZOFFSETTO:-0700
TZNAME:MST
END:STANDARD
END:VTIMEZONE
END:VCALENDAR