BEGIN:VCALENDAR
VERSION:2.0
PRODID:-//wp-events-plugin.com//7.2.3.1//EN
TZID:America/Denver
X-WR-TIMEZONE:America/Denver
BEGIN:VEVENT
UID:1162@dev.arvadamodelers.com
DTSTART;TZID=America/Denver;VALUE=DATE:20260829
DTEND;TZID=America/Denver;VALUE=DATE:20260831
DTSTAMP:20260117T123841Z
URL:https://dev.arvadamodelers.com/events/aam-late-summer-pattern-contest/
SUMMARY:AAM Late Summer Pattern Contest
DESCRIPTION:The East Field will be open for general flying Friday 8/28\, bu
 t there will be a lot of Pattern pilots practicing\, so the West field may
  be preferable.\n\nEast Field closed to general flying Sat 8/29\, all day.
  Closed Sun 8/30 until close of competition (typically ~3:00)\n\nIf you wo
 uld like to participate\, please pre-register on wwww.nsrca.us or contact 
 Dan at underdw@gmail.com\n\n&nbsp\;
CATEGORIES:Closures,Events
LOCATION:AAM East Field\, 7608 Colorado 93\, Arvada\, CO\, 80403\, United S
 tates
X-APPLE-STRUCTURED-LOCATION;VALUE=URI;X-ADDRESS=7608 Colorado 93\, Arvada\,
  CO\, 80403\, United States;X-APPLE-RADIUS=100;X-TITLE=AAM East Field:geo:
 0,0
END:VEVENT
BEGIN:VTIMEZONE
TZID:America/Denver
X-LIC-LOCATION:America/Denver
BEGIN:DAYLIGHT
DTSTART:20260308T030000
TZOFFSETFROM:-0700
TZOFFSETTO:-0600
TZNAME:MDT
END:DAYLIGHT
END:VTIMEZONE
END:VCALENDAR